BEGIN:VCALENDAR
VERSION:2.0
PRODID:-//Dogs For Better Lives - ECPv6.15.20//NONSGML v1.0//EN
CALSCALE:GREGORIAN
METHOD:PUBLISH
X-ORIGINAL-URL:https://dogsforbetterlives.org
X-WR-CALDESC:Events for Dogs For Better Lives
REFRESH-INTERVAL;VALUE=DURATION:PT1H
X-Robots-Tag:noindex
X-PUBLISHED-TTL:PT1H
BEGIN:VTIMEZONE
TZID:America/Los_Angeles
BEGIN:DAYLIGHT
TZOFFSETFROM:-0800
TZOFFSETTO:-0700
TZNAME:PDT
DTSTART:20250309T100000
END:DAYLIGHT
BEGIN:STANDARD
TZOFFSETFROM:-0700
TZOFFSETTO:-0800
TZNAME:PST
DTSTART:20251102T090000
END:STANDARD
BEGIN:DAYLIGHT
TZOFFSETFROM:-0800
TZOFFSETTO:-0700
TZNAME:PDT
DTSTART:20260308T100000
END:DAYLIGHT
BEGIN:STANDARD
TZOFFSETFROM:-0700
TZOFFSETTO:-0800
TZNAME:PST
DTSTART:20261101T090000
END:STANDARD
BEGIN:DAYLIGHT
TZOFFSETFROM:-0800
TZOFFSETTO:-0700
TZNAME:PDT
DTSTART:20270314T100000
END:DAYLIGHT
BEGIN:STANDARD
TZOFFSETFROM:-0700
TZOFFSETTO:-0800
TZNAME:PST
DTSTART:20271107T090000
END:STANDARD
END:VTIMEZONE
BEGIN:VTIMEZONE
TZID:America/New_York
BEGIN:DAYLIGHT
TZOFFSETFROM:-0500
TZOFFSETTO:-0400
TZNAME:EDT
DTSTART:20250309T070000
END:DAYLIGHT
BEGIN:STANDARD
TZOFFSETFROM:-0400
TZOFFSETTO:-0500
TZNAME:EST
DTSTART:20251102T060000
END:STANDARD
BEGIN:DAYLIGHT
TZOFFSETFROM:-0500
TZOFFSETTO:-0400
TZNAME:EDT
DTSTART:20260308T070000
END:DAYLIGHT
BEGIN:STANDARD
TZOFFSETFROM:-0400
TZOFFSETTO:-0500
TZNAME:EST
DTSTART:20261101T060000
END:STANDARD
BEGIN:DAYLIGHT
TZOFFSETFROM:-0500
TZOFFSETTO:-0400
TZNAME:EDT
DTSTART:20270314T070000
END:DAYLIGHT
BEGIN:STANDARD
TZOFFSETFROM:-0400
TZOFFSETTO:-0500
TZNAME:EST
DTSTART:20271107T060000
END:STANDARD
END:VTIMEZONE
BEGIN:VEVENT
DTSTART;TZID=America/Los_Angeles:20260515T150000
DTEND;TZID=America/Los_Angeles:20260515T180000
DTSTAMP:20260421T065236
CREATED:20260413T202552Z
LAST-MODIFIED:20260416T173139Z
UID:39553-1778857200-1778868000@dogsforbetterlives.org
SUMMARY:Northern California Watch Party for Bone AppeTREAT
DESCRIPTION:4th Annual Bone AppeTREAT\nFriday\, May 15\, 2025\n3:00 pm – 6:00 pm PT\nLucid Motors\n7373 Gateway Blvd Newark CA 94560 \nJoin us for an inspiring BROADCAST of Bone AppeTREAT LIVE from Dogs for Better Lives! Five skilled contestants from across the country will showcase their unique dog treat recipe\, tasted by our judging panel\, battling for the title of TOP DOG.  Guests will enjoy food and beverages\, test drives of the Lucid Air and Lucid Gravity\, service dogs and an evening of fun in support of the Dogs for Better Lives mission. Space is limited so RSVP today!
URL:https://dogsforbetterlives.org/event/northern-california-watch-party-for-bone-appetreat-2/
LOCATION:Lucid Motors\, 7373 Gateway Blvd\, Newark\, CA\, 94560\, United States
CATEGORIES:Bone AppeTREAT
END:VEVENT
BEGIN:VEVENT
DTSTART;TZID=America/Los_Angeles:20260515T153000
DTEND;TZID=America/Los_Angeles:20260515T173000
DTSTAMP:20260421T065236
CREATED:20260317T205828Z
LAST-MODIFIED:20260406T190155Z
UID:39458-1778859000-1778866200@dogsforbetterlives.org
SUMMARY:Save your seat and your Bone AppeTREAT Treat Basket
DESCRIPTION:4th Annual Bone AppeTREAT\nFriday\, May 15\, 2026\nOnline Broadcast:\nPregame at 3:30 pm PT / 6:30 pm ET • Program Begins 4:30 pm PT  / 7:30 pm ET •  Program Ends at 5:30 pm PT / 8:30 pm ET \nGet ready for the 4th annual Bone AppeTREAT! Tune in via our livestream to join Dogs for Better Lives and our former NFL Contestants\, Chad Cota/David Cuttrell PANTHERS/DUCKS; Dont’a Hightower\, PATRIOTS; Jarius Wynn\, PACKERS;  Jeff Severson\, REDSKINS;  and Norm Johnson\, SEAHAWKS as they compete for the title of “TOP DOG”.  Make the event even more fun with your friends and family by ordering a Harry & David basket of treats when you RSVP for the event. RSVP today! \nRegister now for your Harry & David tasty treat basket delivered to your home and win amazing prizes\, all while championing Dogs for Better Lives’ mission. Secure your basket valued at $150 for only $25 while supplies last to ensure early arrival for this memorable event.
URL:https://dogsforbetterlives.org/event/save-your-seat-and-your-bone-appetreat-treat-basket/
LOCATION:CA
CATEGORIES:Bone AppeTREAT
END:VEVENT
BEGIN:VEVENT
DTSTART;TZID=America/Los_Angeles:20260515T153000
DTEND;TZID=America/Los_Angeles:20260515T183000
DTSTAMP:20260421T065236
CREATED:20250409T200512Z
LAST-MODIFIED:20260330T183851Z
UID:38306-1778859000-1778869800@dogsforbetterlives.org
SUMMARY:Portland Watch Party for Bone AppeTREAT
DESCRIPTION:4th Annual Bone AppeTREAT\nFriday\, May 15\, 2026 • 3:30pm – 6:30pm PT\nSteeplejack Brewing\n2400 NE Broadway\, Portland\, OR 97232 \nPlease join us for the live broadcast of an exciting dog treat competition\, where five talented contestants will whip up extraordinary treats to earn the title of TOP DOG. Enjoy the competition from Steeplejack Brewing\, located in a meticulously restored\, early 1900s church. Steeplejack offers some amazing beer\, perfectly crafted cocktails\, and delicious food from a scratch kitchen. RVSP Today!
URL:https://dogsforbetterlives.org/event/portland-watch-party-for-bone-appetreat/
LOCATION:Steeplejack Brewing\, 2400 NE Broadway\, Portland\, OR\, 97232\, United States
CATEGORIES:Bone AppeTREAT
END:VEVENT
BEGIN:VEVENT
DTSTART;TZID=America/Los_Angeles:20260515T153000
DTEND;TZID=America/Los_Angeles:20260515T190000
DTSTAMP:20260421T065236
CREATED:20250326T153656Z
LAST-MODIFIED:20260317T203808Z
UID:38251-1778859000-1778871600@dogsforbetterlives.org
SUMMARY:California Watch Party for Bone AppeTREAT
DESCRIPTION:4th Annual Bone AppeTREAT\nFriday\, May 15\, 2026\nPreshow at 3:30 pm • LIVE SHOW at 4:30 pm • Ends at 7:00 pm\nOld Ranch Country Club\n3901 Lampson Ave.\, Seal Beach\, CA 90740 \nJoin Dogs for Better Lives staff and Jeff “The Cowboy” Severson\, former NFL safety and CSULB Athletics Hall of Fame inductee\, for the 4th Annual Bone AppeTREAT!  Jeff is running towards the goal of being named the TOP DOG of 2026! Jeff joins four other former NFL Players in this unique competition. Guests will enjoy food and beverages\, autographed NFL item\, service dogs and an afternoon of fun in support of the Dogs for Better Lives mission. Space is limited so RSVP today!
URL:https://dogsforbetterlives.org/event/california-watch-party-for-bone-appetreat/
LOCATION:Old Ranch Country Club\, 3901 Lampson Ave\, Seal Beach\, CA\, 90740\, United States
CATEGORIES:Bone AppeTREAT
END:VEVENT
BEGIN:VEVENT
DTSTART;TZID=America/Los_Angeles:20260515T153000
DTEND;TZID=America/Los_Angeles:20260515T190000
DTSTAMP:20260421T065236
CREATED:20250326T154506Z
LAST-MODIFIED:20260402T204100Z
UID:38255-1778859000-1778871600@dogsforbetterlives.org
SUMMARY:Oregon LIVE Broadcast for Bone AppeTREAT
DESCRIPTION:4th Annual Bone AppeTREAT\nFriday\, May 15\, 2026 • Preshow at 3:30 pm • LIVE SHOW at 4:30 pm • Ends at 7:00 pm\nDogs for Better Lives West Campus\n10175 Wheeler Rd\, Central Point\, OR 97502 \nJoin us for the food\, fun and football themed Bone AppeTREAT 2026 competition\, Broadcasting LIVE from the Dogs for Better Lives campus. Contestants representing Oregon this year are former NFL Chad Cota and Oregon Duck teammate David Cuttrell. Chad\, a former NFL safety and standout at the UofO\, teams up with David a second time since their time together with the Oregon Ducks for the 4th Annual Bone AppeTREAT!  Together\, Chad and David are competing for the Title of “TOP DOG”. Guests will enjoy food and beverages\, autographed NFL item\, Service Dogs and an afternoon of fun in support of the Dogs for Better Lives mission. Space is limited so RSVP today!  
URL:https://dogsforbetterlives.org/event/oregon-live-broadcast-for-bone-appetreat/
LOCATION:Dogs for Better Lives West Campus\, 10175 Wheeler Road\, Central Point\, OR\, 97502\, United States
CATEGORIES:Bone AppeTREAT
END:VEVENT
BEGIN:VEVENT
DTSTART;TZID=America/Los_Angeles:20260515T153000
DTEND;TZID=America/Los_Angeles:20260515T193000
DTSTAMP:20260421T065236
CREATED:20250326T154142Z
LAST-MODIFIED:20260317T204920Z
UID:38253-1778859000-1778873400@dogsforbetterlives.org
SUMMARY:Washington Watch Party for Bone AppeTREAT
DESCRIPTION:4th Annual Bone AppeTREAT\nFriday\, May 15\, 2026\nPreshow at 3:30 pm • Program at 4:30 pm • Ends at 7:30 pm\nResidence of Kellie Green and David Bond\nLocated in Seattle’s Seward Park neighborhood. Address to be provided in confirmation email. \nJoin Dogs for Better Lives staff and former NFL placekicker Norm Johnson\, for the 4th Annual Bone AppeTREAT!  Norm\, a long longtime Seattle Seahawk\, will kick off towards a goal for “TOP DOG”. Guests will enjoy food and beverages\, autographed NFL item\, a chance to meet the 12th Pony\, Wilson\, and Service Dogs for an evening of fun in support of the Dogs for Better Lives mission. Space is limited so RSVP today!
URL:https://dogsforbetterlives.org/event/washington-watch-party-for-bone-appetreat/
LOCATION:Residence of Kellie Green and David Bond\, seattle\, WA\, 98118\, United States
CATEGORIES:Bone AppeTREAT
END:VEVENT
BEGIN:VEVENT
DTSTART;TZID=America/New_York:20260515T173000
DTEND;TZID=America/New_York:20260515T193000
DTSTAMP:20260421T065236
CREATED:20260330T182026Z
LAST-MODIFIED:20260330T183000Z
UID:39513-1778866200-1778873400@dogsforbetterlives.org
SUMMARY:San Antonio Watch Party for Bone AppeTREAT
DESCRIPTION:4th Annual Bone AppeTREAT\nFriday\, May 15\, 2025\n5:30pm – 7:30pm CT\nLittle Woodrow’s Stone Oak\n606 W Afton Oaks Blvd\, San Antonio\, TX 78232 \nDescription: Join us for an inspiring BROADCAST of Bone AppeTREAT LIVE from Dogs for Better Lives! Five skilled contestants from across the country will showcase their unique dog treat recipe\, tasted by our judging panel\, battling for the title of TOP DOG.  Guests will enjoy food and beverages\, autographed NFL item\, service dogs and an evening of fun in support of the Dogs for Better Lives mission. Space is limited so RSVP today!
URL:https://dogsforbetterlives.org/event/san-antonio-watch-party-for-bone-appetreat/
LOCATION:little woodrow’s stone oak\, 606 W Afton Oaks Blvd\, San Antonio\, TX\, 78232\, United States
CATEGORIES:Bone AppeTREAT
END:VEVENT
BEGIN:VEVENT
DTSTART;TZID=America/New_York:20260515T173000
DTEND;TZID=America/New_York:20260515T193000
DTSTAMP:20260421T065236
CREATED:20260331T205351Z
LAST-MODIFIED:20260331T205351Z
UID:39521-1778866200-1778873400@dogsforbetterlives.org
SUMMARY:Dallas Watch Party for Bone AppeTREAT
DESCRIPTION:4th Annual Bone AppeTREAT\nFriday\, May 15\, 2025\n5:30pm – 7:30pm CT\nLittle Woodrow’s\n8320 State Hwy 121\, Frisco\, TX 75034 \nDescription: Join us for an inspiring BROADCAST of Bone AppeTREAT LIVE from Dogs for Better Lives! Five skilled contestants from across the country will showcase their unique dog treat recipe\, tasted by our judging panel\, battling for the title of TOP DOG.  Guests will enjoy food and beverages\, service dogs and an evening of fun in support of the Dogs for Better Lives mission. Space is limited so RSVP today!
URL:https://dogsforbetterlives.org/event/dallas-watch-party-bone-appetreat/
LOCATION:Little Woodrow’s Frisco\, 8320 State Hwy 121\, Frisco\, 75034\, United States
CATEGORIES:Bone AppeTREAT
END:VEVENT
BEGIN:VEVENT
DTSTART;TZID=America/New_York:20260515T183000
DTEND;TZID=America/New_York:20260515T203000
DTSTAMP:20260421T065236
CREATED:20250326T155015Z
LAST-MODIFIED:20260317T205143Z
UID:38259-1778869800-1778877000@dogsforbetterlives.org
SUMMARY:Massachusetts Watch Party for Bone AppeTREAT
DESCRIPTION:4th Annual Bone AppeTREAT\nFriday\, May 15\, 2026 • Preshow at 6:30 pm • Program at 7:30 pm • Ends at 8:30 pm\nKowloon restaurant\n948 Broadway Saugus\, MA 01906 \nJoin Dogs for Better Lives staff and former NFL linebacker and multi-time Super Bowl Champion Dont’a Hightower for the 4th Annual Bone AppeTREAT! Dont’a\, known for his clutch performances with the New England Patriots\, will compete for the title of “TOP DOG”. Guests will enjoy food and beverages\, autographed NFL item\, Service Dogs and an evening of fun in support of the Dogs for Better Lives mission. Space is limited so RSVP today!
URL:https://dogsforbetterlives.org/event/massachusetts-watch-party-for-bone-appetreat/
LOCATION:Kowloon Restaurant\, 948 Broadway\, Saugus\, MA\, 01906\, United States
CATEGORIES:Bone AppeTREAT
END:VEVENT
END:VCALENDAR